0.0000089993
0.0000000000
0.0000000000
-0.0000089993
-80.1018448524
27.0022678185
