0.0000089993
0.0000000000
0.0000000000
-0.0000089993
-80.1027897768
27.0383819294
