0.0000089993
0.0000000000
0.0000000000
-0.0000089993
-80.1026457883
27.0564344852
