0.0000089993
0.0000000000
0.0000000000
-0.0000089993
-80.0833603312
26.9570014399
