0.0000089993
0.0000000000
0.0000000000
-0.0000089993
-80.0930705544
26.9931785457
