0.0000089993
0.0000000000
0.0000000000
-0.0000089993
-80.0929985601
27.0022048236
