0.0000089993
0.0000000000
0.0000000000
-0.0000089993
-80.0890928726
26.2257289416
