0.0000089993
0.0000000000
0.0000000000
-0.0000089993
-80.0888858891
26.2528257739
