0.0000089993
0.0000000000
0.0000000000
-0.0000089993
-80.0790856731
26.2256749459
