0.0000089993
0.0000000000
0.0000000000
-0.0000089993
-80.0788696904
26.2527537796
