0.0000089993
0.0000000000
0.0000000000
-0.0000089993
-80.0691144708
26.4332613390
