0.0000089993
0.0000000000
0.0000000000
-0.0000089993
-80.0733891289
26.9208243340
