0.0000089993
0.0000000000
0.0000000000
-0.0000089993
-80.0734341253
26.9298596112
