0.0000089993
0.0000000000
0.0000000000
-0.0000089993
-80.0732901368
26.9479121670
