0.0000089993
0.0000000000
0.0000000000
-0.0000089993
-80.0729211663
26.9904877609
