0.0000089993
0.0000000000
0.0000000000
-0.0000089993
-80.0682145428
26.3339452843
