0.0000089993
0.0000000000
0.0000000000
-0.0000089993
-80.0680705544
26.3520068394
