0.0000089993
0.0000000000
0.0000000000
-0.0000089993
-80.0676295896
26.4061735061
