0.0000089993
0.0000000000
0.0000000000
-0.0000089993
-80.0588642909
26.5054265658
