0.0000089993
0.0000000000
0.0000000000
-0.0000089993
-80.0599712023
26.8755939524
