0.0000089993
0.0000000000
0.0000000000
-0.0000089993
-80.0634449244
26.9207613390
