0.0000089993
0.0000000000
0.0000000000
-0.0000089993
-80.0633639309
26.9297876169
