0.0000089993
0.0000000000
0.0000000000
-0.0000089993
-80.0630669546
26.9605111591
