0.0000089993
0.0000000000
0.0000000000
-0.0000089993
-80.0579013679
26.3699874009
