0.0000089993
0.0000000000
0.0000000000
-0.0000089993
-80.0573884089
26.4331983441
