0.0000089993
0.0000000000
0.0000000000
-0.0000089993
-80.0551475882
26.5324514038
