0.0000089993
0.0000000000
0.0000000000
-0.0000089993
-80.0476511879
26.6137059035
