0.0000089993
0.0000000000
0.0000000000
-0.0000089993
-80.0474532037
26.6317494600
