0.0000089993
0.0000000000
0.0000000000
-0.0000089993
-80.0532937365
26.9245320374
