0.0000089993
0.0000000000
0.0000000000
-0.0000089993
-80.0465442765
26.5324334053
