0.0000089993
0.0000000000
0.0000000000
-0.0000089993
-80.0456533477
26.6317404607
