0.0000089993
0.0000000000
0.0000000000
-0.0000089993
-80.0426925846
26.6587832973
