0.0000089993
0.0000000000
0.0000000000
-0.0000089993
-80.0452843772
26.6768448524
