0.0000089993
0.0000000000
0.0000000000
-0.0000089993
-80.0440064795
26.6858531317
