0.0000089993
0.0000000000
0.0000000000
-0.0000089993
-80.0442764579
26.6949244060
