0.0000089993
0.0000000000
0.0000000000
-0.0000089993
-80.0419906407
26.7400557955
