0.0000089993
0.0000000000
0.0000000000
-0.0000089993
-80.0444294456
26.7851961842
