0.0000089993
0.0000000000
0.0000000000
-0.0000089993
-80.0439884809
26.8393808495
