0.0000089993
0.0000000000
0.0000000000
-0.0000089993
-80.0439074874
26.8484071274
