0.0000089993
0.0000000000
0.0000000000
-0.0000089993
-80.0438354932
26.8574334053
