0.0000089993
0.0000000000
0.0000000000
-0.0000089993
-80.0363570914
26.5504229661
