0.0000089993
0.0000000000
0.0000000000
-0.0000089993
-80.0361321094
26.5775017998
