0.0000089993
0.0000000000
0.0000000000
-0.0000089993
-80.0356731461
26.6316774657
