0.0000089993
0.0000000000
0.0000000000
-0.0000089993
-80.0354481641
26.6587562994
