0.0000089993
0.0000000000
0.0000000000
-0.0000089993
-80.0257829374
26.6135529157
