0.0000089993
0.0000000000
0.0000000000
-0.0000089993
-80.0252429806
26.6767458603
