0.0000089993
0.0000000000
0.0000000000
-0.0000089993
-80.0248650108
26.7218772498
