0.0000089993
0.0000000000
0.0000000000
-0.0000089993
-80.0244780418
26.7670266378
