0.0000089993
0.0000000000
0.0000000000
-0.0000089993
-80.0244060475
26.7760439164
