0.0000089993
0.0000000000
0.0000000000
-0.0000089993
-80.0243250540
26.7850791936
